BEGIN:VCALENDAR
VERSION:2.0
PRODID:-//hacksw/handcal//NONSGML v1.0//EN
CALSCALE:GREGORIAN
BEGIN:VEVENT
LOCATION:İstanbul\, Türkiye
SUMMARY:Marmara Urban Forum: Cities developing solutions
DESCRIPTION:Marmara Urban Forum: Cities developing solutions
DTSTART:20231004T000000
DTEND:20231007T000000
URL;VALUE=URI:https://energy-cities.eu/event/marmara-urban-forum-cities-developing-solutions/
DTSTAMP:now
UID:659776daa6988
END:VEVENT
END:VCALENDAR