BEGIN:VCALENDAR
VERSION:2.0
PRODID:-//hacksw/handcal//NONSGML v1.0//EN
CALSCALE:GREGORIAN
BEGIN:VEVENT
LOCATION:
SUMMARY:#EUSEW: Local solutions to the energy crisis: empowering citizens through renewable energy communities
DESCRIPTION:#EUSEW: Local solutions to the energy crisis: empowering citizens through renewable energy communities
DTSTART:20220929T113000
DTEND:20220929T133000
URL;VALUE=URI:https://energy-cities.eu/event/eusew-local-solutions-to-the-energy-crisis-empowering-citizens-through-renewable-energy-communities/
DTSTAMP:now
UID:6597701e68175
END:VEVENT
END:VCALENDAR