BEGIN:VCALENDAR
VERSION:2.0
PRODID:-//hacksw/handcal//NONSGML v1.0//EN
CALSCALE:GREGORIAN
BEGIN:VEVENT
LOCATION:
SUMMARY:#EUSEW: Repowering Europe by empowering energy communities: a perspective on digital and social innovation
DESCRIPTION:#EUSEW: Repowering Europe by empowering energy communities: a perspective on digital and social innovation
DTSTART:20220927T143000
DTEND:20220927T160000
URL;VALUE=URI:https://energy-cities.eu/event/eusew-repowering-europe-by-empowering-energy-communities-a-perspective-on-digital-and-social-innovation/
DTSTAMP:now
UID:65976e9b58a0b
END:VEVENT
END:VCALENDAR