BEGIN:VCALENDAR
VERSION:2.0
PRODID:-//hacksw/handcal//NONSGML v1.0//EN
CALSCALE:GREGORIAN
BEGIN:VEVENT
LOCATION:
SUMMARY:#EUSEW: Stronger together: community-based renewable energy projects for a just and green transition
DESCRIPTION:#EUSEW: Stronger together: community-based renewable energy projects for a just and green transition
DTSTART:20220929T113000
DTEND:20220929T130000
URL;VALUE=URI:https://energy-cities.eu/event/stronger-together-community-based-renewable-energy-projects-for-a-just-and-green-transition/
DTSTAMP:now
UID:6597720c107b4
END:VEVENT
END:VCALENDAR