BEGIN:VCALENDAR
VERSION:2.0
PRODID:-//hacksw/handcal//NONSGML v1.0//EN
CALSCALE:GREGORIAN
BEGIN:VEVENT
LOCATION:
SUMMARY:#EUSEW: The role of multiple benefits in the European green transition
DESCRIPTION:#EUSEW: The role of multiple benefits in the European green transition
DTSTART:20220923T120000
DTEND:20220923T133000
URL;VALUE=URI:https://energy-cities.eu/event/eusew-the-role-of-multiple-benefits-in-the-european-green-transition/
DTSTAMP:now
UID:6597662c2e769
END:VEVENT
END:VCALENDAR