BEGIN:VCALENDAR
VERSION:2.0
PRODID:-//hacksw/handcal//NONSGML v1.0//EN
CALSCALE:GREGORIAN
BEGIN:VEVENT
LOCATION:
SUMMARY:#EUSEW &#8211\; REPower the EU: mobilising investments and citizen empowerment
DESCRIPTION:#EUSEW &#8211\; REPower the EU: mobilising investments and citizen empowerment
DTSTART:20220928T093000
DTEND:20220928T110000
URL;VALUE=URI:https://energy-cities.eu/event/eusew-repower-the-eu-mobilising-investments-and-citizen-empowerment/
DTSTAMP:now
UID:65976bbc372cc
END:VEVENT
END:VCALENDAR