BEGIN:VCALENDAR
VERSION:2.0
PRODID:-//hacksw/handcal//NONSGML v1.0//EN
CALSCALE:GREGORIAN
BEGIN:VEVENT
LOCATION:
SUMMARY:#EUSEW &#8211\; REPowerEU: save energy\, diversify\, build a greener EU energy system
DESCRIPTION:#EUSEW &#8211\; REPowerEU: save energy\, diversify\, build a greener EU energy system
DTSTART:20220927T113000
DTEND:20220927T130000
URL;VALUE=URI:https://energy-cities.eu/event/eusew-repowereu-save-energy-diversify-build-a-greener-eu-energy-system/
DTSTAMP:now
UID:65976705b54cc
END:VEVENT
END:VCALENDAR