BEGIN:VCALENDAR
VERSION:2.0
PRODID:-//hacksw/handcal//NONSGML v1.0//EN
CALSCALE:GREGORIAN
BEGIN:VEVENT
LOCATION:
SUMMARY:#EUSEW2020: Clean energy for green recovery and growth
DESCRIPTION:#EUSEW2020: Clean energy for green recovery and growth
DTSTART:20200622T000000
DTEND:20200626T000000
URL;VALUE=URI:https://energy-cities.eu/event/eusew2020-clean-energy-for-green-recovery-and-growth/
DTSTAMP:now
UID:659769b904f6e
END:VEVENT
END:VCALENDAR