BEGIN:VCALENDAR
VERSION:2.0
PRODID:-//hacksw/handcal//NONSGML v1.0//EN
CALSCALE:GREGORIAN
BEGIN:VEVENT
LOCATION:
SUMMARY:#EUSEW2020 &#8211\; Are NECPs fit to deliver the EU Climate Law?
DESCRIPTION:#EUSEW2020 &#8211\; Are NECPs fit to deliver the EU Climate Law?
DTSTART:20200616T100000
DTEND:20200616T113000
URL;VALUE=URI:https://energy-cities.eu/event/31863/
DTSTAMP:now
UID:6597681c53595
END:VEVENT
END:VCALENDAR