BEGIN:VCALENDAR
VERSION:2.0
PRODID:-//hacksw/handcal//NONSGML v1.0//EN
CALSCALE:GREGORIAN
BEGIN:VEVENT
LOCATION:
SUMMARY:#EUSEW2020 &#8211\; Cities driving the green recovery: boosting investments for local actions
DESCRIPTION:#EUSEW2020 &#8211\; Cities driving the green recovery: boosting investments for local actions
DTSTART:20200624T110000
DTEND:20200624T123000
URL;VALUE=URI:https://energy-cities.eu/event/eusew2020-cities-driving-the-green-recovery-boosting-investments-for-local-actions/
DTSTAMP:now
UID:659767acdac2c
END:VEVENT
END:VCALENDAR