BEGIN:VCALENDAR
VERSION:2.0
PRODID:-//hacksw/handcal//NONSGML v1.0//EN
CALSCALE:GREGORIAN
BEGIN:VEVENT
LOCATION:
SUMMARY:#EUSEW2020 &#8211\; District heating: working towards local sustainable solutions
DESCRIPTION:#EUSEW2020 &#8211\; District heating: working towards local sustainable solutions
DTSTART:20200618T133000
DTEND:20200618T150000
URL;VALUE=URI:https://energy-cities.eu/event/eusew2020-district-heating-working-towards-local-sustainable-solutions/
DTSTAMP:now
UID:6597679c948c3
END:VEVENT
END:VCALENDAR