BEGIN:VCALENDAR
VERSION:2.0
PRODID:-//hacksw/handcal//NONSGML v1.0//EN
CALSCALE:GREGORIAN
BEGIN:VEVENT
LOCATION:
SUMMARY:#EUSEW2020 &#8211\; Empowering consumers through energy communities
DESCRIPTION:#EUSEW2020 &#8211\; Empowering consumers through energy communities
DTSTART:20200624T160000
DTEND:20200624T173000
URL;VALUE=URI:https://energy-cities.eu/event/eusew2020-empowering-consumers-through-energy-communities/
DTSTAMP:now
UID:659768edf259c
END:VEVENT
END:VCALENDAR