BEGIN:VCALENDAR
VERSION:2.0
PRODID:-//hacksw/handcal//NONSGML v1.0//EN
CALSCALE:GREGORIAN
BEGIN:VEVENT
LOCATION:
SUMMARY:#EUSEW2020 &#8211\; Grids and communities: value and new services for the energy transition
DESCRIPTION:#EUSEW2020 &#8211\; Grids and communities: value and new services for the energy transition
DTSTART:20200620T140000
DTEND:20200620T153000
URL;VALUE=URI:https://energy-cities.eu/event/eusew2020-grids-and-communities-value-and-new-services-for-the-energy-transition/
DTSTAMP:now
UID:65976d6ad15e1
END:VEVENT
END:VCALENDAR