BEGIN:VCALENDAR
VERSION:2.0
PRODID:-//hacksw/handcal//NONSGML v1.0//EN
CALSCALE:GREGORIAN
BEGIN:VEVENT
LOCATION:
SUMMARY:#EUSEW2020 &#8211\; How to successfully design smart sector integration in the twin climate and digital transition?
DESCRIPTION:#EUSEW2020 &#8211\; How to successfully design smart sector integration in the twin climate and digital transition?
DTSTART:20200623T140000
DTEND:20200623T153000
URL;VALUE=URI:https://energy-cities.eu/event/eusew2020-how-to-successfully-design-smart-sector-integration-in-the-twin-climate-and-digital-transition/
DTSTAMP:now
UID:65976d2eb82ba
END:VEVENT
END:VCALENDAR