BEGIN:VCALENDAR
VERSION:2.0
PRODID:-//hacksw/handcal//NONSGML v1.0//EN
CALSCALE:GREGORIAN
BEGIN:VEVENT
LOCATION:
SUMMARY:#EUSEW2020 &#8211\; The role of local authorities in a fair energy transition\, through retrofitting buildings
DESCRIPTION:#EUSEW2020 &#8211\; The role of local authorities in a fair energy transition\, through retrofitting buildings
DTSTART:20200624T090000
DTEND:20200624T103000
URL;VALUE=URI:https://energy-cities.eu/event/eusew2020-the-role-of-local-authorities-in-a-fair-energy-transition-through-retrofitting-buildings/
DTSTAMP:now
UID:6597674981143
END:VEVENT
END:VCALENDAR