BEGIN:VCALENDAR
VERSION:2.0
PRODID:-//hacksw/handcal//NONSGML v1.0//EN
CALSCALE:GREGORIAN
BEGIN:VEVENT
LOCATION:
SUMMARY:&#8220\;Conversation Carbone&#8221\;: when individual change takes on a differrent scale!
DESCRIPTION:&#8220\;Conversation Carbone&#8221\;: when individual change takes on a differrent scale!
DTSTART:20200123T140000
DTEND:20200123T153000
URL;VALUE=URI:https://energy-cities.eu/event/conversations-carbone-quand-le-changement-individuel-passe-a-une-autre-echelle/
DTSTAMP:now
UID:6597696a0b4bb
END:VEVENT
END:VCALENDAR