BEGIN:VCALENDAR
VERSION:2.0
PRODID:-//hacksw/handcal//NONSGML v1.0//EN
CALSCALE:GREGORIAN
BEGIN:VEVENT
LOCATION:
SUMMARY:&#8220\;Fit for 55” package: is the EU on its way for fossil free cities?
DESCRIPTION:&#8220\;Fit for 55” package: is the EU on its way for fossil free cities?
DTSTART:20211207T150000
DTEND:20211207T163000
URL;VALUE=URI:https://energy-cities.eu/event/fit-for-55-package-is-the-eu-on-its-way-for-fossil-free-cities/
DTSTAMP:now
UID:659765ebd385f
END:VEVENT
END:VCALENDAR