BEGIN:VCALENDAR
VERSION:2.0
PRODID:-//hacksw/handcal//NONSGML v1.0//EN
CALSCALE:GREGORIAN
BEGIN:VEVENT
LOCATION:
SUMMARY:« Habiter dans une société bas carbone » : Présentation du rapport final du Shift Project
DESCRIPTION:« Habiter dans une société bas carbone » : Présentation du rapport final du Shift Project
DTSTART:20211007T180000
DTEND:20211007T203000
URL;VALUE=URI:https://energy-cities.eu/fr/evenement/habiter-dans-une-societe-bas-carbone-presentation-du-rapport-final-du-shift-project/
DTSTAMP:now
UID:65976d1ee0d48
END:VEVENT
END:VCALENDAR