BEGIN:VCALENDAR
VERSION:2.0
PRODID:-//hacksw/handcal//NONSGML v1.0//EN
CALSCALE:GREGORIAN
BEGIN:VEVENT
LOCATION:
SUMMARY:“Accès aux financements climat: Comment les États organisent-ils la transition écologique de leurs territoires dans un esprit de justice sociale ?”
DESCRIPTION:“Accès aux financements climat: Comment les États organisent-ils la transition écologique de leurs territoires dans un esprit de justice sociale ?”
DTSTART:20210909T150000
DTEND:20210909T163000
URL;VALUE=URI:https://energy-cities.eu/fr/evenement/acces-aux-financements-climat-comment-les-etats-organisent-ils-la-transition-ecologique-de-leurs-territoires-dans-un-esprit-de-justice-sociale/
DTSTAMP:now
UID:6597701a9f2e9
END:VEVENT
END:VCALENDAR