BEGIN:VCALENDAR
VERSION:2.0
PRODID:-//hacksw/handcal//NONSGML v1.0//EN
CALSCALE:GREGORIAN
BEGIN:VEVENT
LOCATION:
SUMMARY:1ère Journée contre la précarité énergétique
DESCRIPTION:1ère Journée contre la précarité énergétique
DTSTART:20211110T000000
DTEND:20211110T000000
URL;VALUE=URI:https://energy-cities.eu/fr/evenement/1ere-journee-contre-la-precarite-energetique/
DTSTAMP:now
UID:6597709154201
END:VEVENT
END:VCALENDAR