BEGIN:VCALENDAR
VERSION:2.0
PRODID:-//hacksw/handcal//NONSGML v1.0//EN
CALSCALE:GREGORIAN
BEGIN:VEVENT
LOCATION:
SUMMARY:2021 Ceremony of the European Covenant of Mayors
DESCRIPTION:2021 Ceremony of the European Covenant of Mayors
DTSTART:20211007T000000
DTEND:20211007T000000
URL;VALUE=URI:https://energy-cities.eu/event/2021-ceremony-of-the-european-covenant-of-mayors/
DTSTAMP:now
UID:659775ff5d4c3
END:VEVENT
END:VCALENDAR