BEGIN:VCALENDAR
VERSION:2.0
PRODID:-//hacksw/handcal//NONSGML v1.0//EN
CALSCALE:GREGORIAN
BEGIN:VEVENT
LOCATION:
SUMMARY:2021 URBACT City Festival
DESCRIPTION:2021 URBACT City Festival
DTSTART:20210615T000000
DTEND:20210617T000000
URL;VALUE=URI:https://energy-cities.eu/event/2021-urbact-city-festival/
DTSTAMP:now
UID:65976d7be5a49
END:VEVENT
END:VCALENDAR