BEGIN:VCALENDAR
VERSION:2.0
PRODID:-//hacksw/handcal//NONSGML v1.0//EN
CALSCALE:GREGORIAN
BEGIN:VEVENT
LOCATION:
SUMMARY:24h du Climat
DESCRIPTION:24h du Climat
DTSTART:20210928T000000
DTEND:20210929T000000
URL;VALUE=URI:https://energy-cities.eu/fr/evenement/24h-du-climat/
DTSTAMP:now
UID:65976c8151c44
END:VEVENT
END:VCALENDAR