BEGIN:VCALENDAR
VERSION:2.0
PRODID:-//hacksw/handcal//NONSGML v1.0//EN
CALSCALE:GREGORIAN
BEGIN:VEVENT
LOCATION:
SUMMARY:3rd Annual Citizen Engagement and Deliberative Democracy Festival
DESCRIPTION:3rd Annual Citizen Engagement and Deliberative Democracy Festival
DTSTART:20201206T000000
DTEND:20201212T000000
URL;VALUE=URI:https://energy-cities.eu/event/3rd-annual-citizen-engagement-and-deliberative-democracy-festival/
DTSTAMP:now
UID:659768770522e
END:VEVENT
END:VCALENDAR