BEGIN:VCALENDAR
VERSION:2.0
PRODID:-//hacksw/handcal//NONSGML v1.0//EN
CALSCALE:GREGORIAN
BEGIN:VEVENT
LOCATION:
SUMMARY:6th Global procurement conference
DESCRIPTION:6th Global procurement conference
DTSTART:20210707T000000
DTEND:20210709T000000
URL;VALUE=URI:https://energy-cities.eu/event/6th-global-procurement-conference/
DTSTAMP:now
UID:659763d52c5e0
END:VEVENT
END:VCALENDAR