BEGIN:VCALENDAR
VERSION:2.0
PRODID:-//hacksw/handcal//NONSGML v1.0//EN
CALSCALE:GREGORIAN
BEGIN:VEVENT
LOCATION:
SUMMARY:A methodology for speeding up energy communities
DESCRIPTION:A methodology for speeding up energy communities
DTSTART:20220118T103000
DTEND:20220118T120000
URL;VALUE=URI:https://energy-cities.eu/event/a-methodology-for-speeding-up-energy-communities/
DTSTAMP:now
UID:6597706179f24
END:VEVENT
END:VCALENDAR