BEGIN:VCALENDAR
VERSION:2.0
PRODID:-//hacksw/handcal//NONSGML v1.0//EN
CALSCALE:GREGORIAN
BEGIN:VEVENT
LOCATION:
SUMMARY:Accélérer la rénovation énergétique dans les copropriétés
DESCRIPTION:Accélérer la rénovation énergétique dans les copropriétés
DTSTART:20200326T093000
DTEND:20200326T173000
URL;VALUE=URI:https://energy-cities.eu/fr/evenement/accelerer-la-renovation-energetique-dans-les-coproprietes/
DTSTAMP:now
UID:65976630ebc27
END:VEVENT
END:VCALENDAR