BEGIN:VCALENDAR
VERSION:2.0
PRODID:-//hacksw/handcal//NONSGML v1.0//EN
CALSCALE:GREGORIAN
BEGIN:VEVENT
LOCATION:
SUMMARY:Accélérer la rénovation énergétique des copropriétés : comment mobiliser les professionnels !
DESCRIPTION:Accélérer la rénovation énergétique des copropriétés : comment mobiliser les professionnels !
DTSTART:20210309T083000
DTEND:20210309T100000
URL;VALUE=URI:https://energy-cities.eu/fr/evenement/accelerer-la-renovation-energetique-des-coproprietes-comment-mobiliser-les-professionnels/
DTSTAMP:now
UID:659768a8639d0
END:VEVENT
END:VCALENDAR