BEGIN:VCALENDAR
VERSION:2.0
PRODID:-//hacksw/handcal//NONSGML v1.0//EN
CALSCALE:GREGORIAN
BEGIN:VEVENT
LOCATION:
SUMMARY:Accelerate your project idea &#8211\; Smart Cities Marketplace online matchmaking event
DESCRIPTION:Accelerate your project idea &#8211\; Smart Cities Marketplace online matchmaking event
DTSTART:20230321T093000
DTEND:20230321T161500
URL;VALUE=URI:https://energy-cities.eu/event/accelerate-your-project-idea-smart-cities-marketplace-online-matchmaking-event/
DTSTAMP:now
UID:659766c935e50
END:VEVENT
END:VCALENDAR