BEGIN:VCALENDAR
VERSION:2.0
PRODID:-//hacksw/handcal//NONSGML v1.0//EN
CALSCALE:GREGORIAN
BEGIN:VEVENT
LOCATION:
SUMMARY:Accelerating heat decarbonisation with heat communities
DESCRIPTION:Accelerating heat decarbonisation with heat communities
DTSTART:20230117T100000
DTEND:20230117T120000
URL;VALUE=URI:https://energy-cities.eu/event/58495/
DTSTAMP:now
UID:659768b92fcad
END:VEVENT
END:VCALENDAR