BEGIN:VCALENDAR
VERSION:2.0
PRODID:-//hacksw/handcal//NONSGML v1.0//EN
CALSCALE:GREGORIAN
BEGIN:VEVENT
LOCATION:
SUMMARY:Accelerating permitting\, staffing\, and skilling in solar cities and regions webinar
DESCRIPTION:Accelerating permitting\, staffing\, and skilling in solar cities and regions webinar
DTSTART:20231123T150000
DTEND:20231123T163000
URL;VALUE=URI:https://energy-cities.eu/event/accelerating-permitting-staffing-and-skilling-in-solar-cities-and-regions-webinar/
DTSTAMP:now
UID:65976e387b2bd
END:VEVENT
END:VCALENDAR