BEGIN:VCALENDAR
VERSION:2.0
PRODID:-//hacksw/handcal//NONSGML v1.0//EN
CALSCALE:GREGORIAN
BEGIN:VEVENT
LOCATION:
SUMMARY:Access to climate funding: how do European States stimulate a just and low-carbon transition at local level?
DESCRIPTION:Access to climate funding: how do European States stimulate a just and low-carbon transition at local level?
DTSTART:20210909T150000
DTEND:20210909T163000
URL;VALUE=URI:https://energy-cities.eu/event/access-to-climate-funding-how-do-european-states-stimulate-a-just-and-low-carbon-transition-at-local-level/
DTSTAMP:now
UID:659777c11afcd
END:VEVENT
END:VCALENDAR