BEGIN:VCALENDAR
VERSION:2.0
PRODID:-//hacksw/handcal//NONSGML v1.0//EN
CALSCALE:GREGORIAN
BEGIN:VEVENT
LOCATION:
SUMMARY:Accompagnement au changement : associer outils numériques et accompagnement humain
DESCRIPTION:Accompagnement au changement : associer outils numériques et accompagnement humain
DTSTART:20190912T103000
DTEND:20190912T120000
URL;VALUE=URI:https://energy-cities.eu/fr/evenement/accompagnement-au-changement-associer-outils-numeriques-et-accompagnement-humain/
DTSTAMP:now
UID:659776104f615
END:VEVENT
END:VCALENDAR