BEGIN:VCALENDAR
VERSION:2.0
PRODID:-//hacksw/handcal//NONSGML v1.0//EN
CALSCALE:GREGORIAN
BEGIN:VEVENT
LOCATION:
SUMMARY:Achieving fossil-free district: Energy Cities is there to help you!
DESCRIPTION:Achieving fossil-free district: Energy Cities is there to help you!
DTSTART:20221026T090000
DTEND:20221026T100000
URL;VALUE=URI:https://energy-cities.eu/event/achieving-fossil-free-district-energy-cities-is-there-to-help-you/
DTSTAMP:now
UID:659776258bde3
END:VEVENT
END:VCALENDAR