BEGIN:VCALENDAR
VERSION:2.0
PRODID:-//hacksw/handcal//NONSGML v1.0//EN
CALSCALE:GREGORIAN
BEGIN:VEVENT
LOCATION:
SUMMARY:Adaptation to Climate Change &#038\; Climate-Neutral and Smart Cities Missions: International Networking Event
DESCRIPTION:Adaptation to Climate Change &#038\; Climate-Neutral and Smart Cities Missions: International Networking Event
DTSTART:20220210T090000
DTEND:20220210T163000
URL;VALUE=URI:https://energy-cities.eu/event/adaptation-to-climate-change-climate-neutral-and-smart-cities-missions/
DTSTAMP:now
UID:65977138d893f
END:VEVENT
END:VCALENDAR