BEGIN:VCALENDAR
VERSION:2.0
PRODID:-//hacksw/handcal//NONSGML v1.0//EN
CALSCALE:GREGORIAN
BEGIN:VEVENT
LOCATION:
SUMMARY:Amiens Energy Summit #2 Optimisation des données pour une ville autonome
DESCRIPTION:Amiens Energy Summit #2 Optimisation des données pour une ville autonome
DTSTART:20211125T083000
DTEND:20211125T180000
URL;VALUE=URI:https://energy-cities.eu/fr/evenement/amiens-energy-summit-2-optimisation-des-donnees-pour-une-ville-autonome/
DTSTAMP:now
UID:65976571a9de9
END:VEVENT
END:VCALENDAR