BEGIN:VCALENDAR
VERSION:2.0
PRODID:-//hacksw/handcal//NONSGML v1.0//EN
CALSCALE:GREGORIAN
BEGIN:VEVENT
LOCATION:
SUMMARY:Approches globales des rénovations énergétiques des logements privés
DESCRIPTION:Approches globales des rénovations énergétiques des logements privés
DTSTART:20200910T000000
DTEND:20200910T000000
URL;VALUE=URI:https://energy-cities.eu/fr/evenement/approches-globales-des-renovations-energetiques-des-logements-prives/
DTSTAMP:now
UID:65976f314920a
END:VEVENT
END:VCALENDAR