BEGIN:VCALENDAR
VERSION:2.0
PRODID:-//hacksw/handcal//NONSGML v1.0//EN
CALSCALE:GREGORIAN
BEGIN:VEVENT
LOCATION:
SUMMARY:Articulation des démarches PCAET et Territoire Engagé Transition Écologique Climat-Air-Énergie
DESCRIPTION:Articulation des démarches PCAET et Territoire Engagé Transition Écologique Climat-Air-Énergie
DTSTART:20220405T140000
DTEND:20220405T150000
URL;VALUE=URI:https://energy-cities.eu/fr/evenement/articulation-des-demarches-pcaet-et-territoire-engage-transition-ecologique-climat-air-energie/
DTSTAMP:now
UID:6597637d057f1
END:VEVENT
END:VCALENDAR