BEGIN:VCALENDAR
VERSION:2.0
PRODID:-//hacksw/handcal//NONSGML v1.0//EN
CALSCALE:GREGORIAN
BEGIN:VEVENT
LOCATION:
SUMMARY:Assemblée Générale d&rsquo\;Energy Cities
DESCRIPTION:Assemblée Générale d&rsquo\;Energy Cities
DTSTART:20210421T090000
DTEND:20210421T123000
URL;VALUE=URI:https://energy-cities.eu/fr/evenement/assemblee-generale-denergy-cities/
DTSTAMP:now
UID:65976fdf48da8
END:VEVENT
END:VCALENDAR