BEGIN:VCALENDAR
VERSION:2.0
PRODID:-//hacksw/handcal//NONSGML v1.0//EN
CALSCALE:GREGORIAN
BEGIN:VEVENT
LOCATION:
SUMMARY:Assises Européennes de la Transition Energétique
DESCRIPTION:Assises Européennes de la Transition Energétique
DTSTART:20210112T000000
DTEND:20210114T000000
URL;VALUE=URI:https://energy-cities.eu/fr/evenement/assises-europeennes-de-la-transition-energetique-2/
DTSTAMP:now
UID:65976ddaeeb0b
END:VEVENT
END:VCALENDAR