BEGIN:VCALENDAR
VERSION:2.0
PRODID:-//hacksw/handcal//NONSGML v1.0//EN
CALSCALE:GREGORIAN
BEGIN:VEVENT
LOCATION:
SUMMARY:Atelier TANDEM sur les coopératives d’énergie et les projets bilatéraux
DESCRIPTION:Atelier TANDEM sur les coopératives d’énergie et les projets bilatéraux
DTSTART:20201201T090000
DTEND:20201202T170000
URL;VALUE=URI:https://energy-cities.eu/fr/evenement/atelier-tandem-sur-les-cooperatives-denergie-et-les-projets-bilateraux/
DTSTAMP:now
UID:6597655d0a1fb
END:VEVENT
END:VCALENDAR