BEGIN:VCALENDAR
VERSION:2.0
PRODID:-//hacksw/handcal//NONSGML v1.0//EN
CALSCALE:GREGORIAN
BEGIN:VEVENT
LOCATION:
SUMMARY:Become a storyteller!
DESCRIPTION:Become a storyteller!
DTSTART:20191119T100000
DTEND:20191119T110000
URL;VALUE=URI:https://energy-cities.eu/event/become-a-storyteller/
DTSTAMP:now
UID:659771da80c6e
END:VEVENT
END:VCALENDAR