BEGIN:VCALENDAR
VERSION:2.0
PRODID:-//hacksw/handcal//NONSGML v1.0//EN
CALSCALE:GREGORIAN
BEGIN:VEVENT
LOCATION:
SUMMARY:Behaviour change for sustainable mobility &#8211\; INTERREG Europe
DESCRIPTION:Behaviour change for sustainable mobility &#8211\; INTERREG Europe
DTSTART:20201201T140000
DTEND:20201201T160000
URL;VALUE=URI:https://energy-cities.eu/event/behaviour-change-for-sustainable-mobility-interreg-europe/
DTSTAMP:now
UID:6597634070b4a
END:VEVENT
END:VCALENDAR