BEGIN:VCALENDAR
VERSION:2.0
PRODID:-//hacksw/handcal//NONSGML v1.0//EN
CALSCALE:GREGORIAN
BEGIN:VEVENT
LOCATION:
SUMMARY:Biennale des villes en transition &#8211\; 3ème édition
DESCRIPTION:Biennale des villes en transition &#8211\; 3ème édition
DTSTART:20210401T000000
DTEND:20210404T000000
URL;VALUE=URI:https://energy-cities.eu/fr/evenement/biennale-des-villes-en-transition-3eme-edition/
DTSTAMP:now
UID:6597779d55eff
END:VEVENT
END:VCALENDAR