BEGIN:VCALENDAR
VERSION:2.0
PRODID:-//hacksw/handcal//NONSGML v1.0//EN
CALSCALE:GREGORIAN
BEGIN:VEVENT
LOCATION:
SUMMARY:Building Renovation Passports and One-Stop-Shops: How can public buildings benefit from them?
DESCRIPTION:Building Renovation Passports and One-Stop-Shops: How can public buildings benefit from them?
DTSTART:20210507T110000
DTEND:20210507T120000
URL;VALUE=URI:https://energy-cities.eu/event/building-renovation-passports-and-one-stop-shops-how-can-they-contribute-to-the-renovation-wave/
DTSTAMP:now
UID:659763a5af801
END:VEVENT
END:VCALENDAR