BEGIN:VCALENDAR
VERSION:2.0
PRODID:-//hacksw/handcal//NONSGML v1.0//EN
CALSCALE:GREGORIAN
BEGIN:VEVENT
LOCATION:
SUMMARY:Building strategies in local and regional authorities recovery plans: a major governance challenge
DESCRIPTION:Building strategies in local and regional authorities recovery plans: a major governance challenge
DTSTART:20210607T100000
DTEND:20210607T120000
URL;VALUE=URI:https://energy-cities.eu/event/building-strategies-in-local-and-regional-authorities-recovery-plans-a-major-governance-challenge/
DTSTAMP:now
UID:65976b64436ca
END:VEVENT
END:VCALENDAR