BEGIN:VCALENDAR
VERSION:2.0
PRODID:-//hacksw/handcal//NONSGML v1.0//EN
CALSCALE:GREGORIAN
BEGIN:VEVENT
LOCATION:
SUMMARY:Business &#038\; Financing Models for Tomorrow&#8217\;s Heritage
DESCRIPTION:Business &#038\; Financing Models for Tomorrow&#8217\;s Heritage
DTSTART:20220609T110000
DTEND:20220609T120000
URL;VALUE=URI:https://energy-cities.eu/event/business-financing-models-for-tomorrows-heritage/
DTSTAMP:now
UID:659768faaf27d
END:VEVENT
END:VCALENDAR