BEGIN:VCALENDAR
VERSION:2.0
PRODID:-//hacksw/handcal//NONSGML v1.0//EN
CALSCALE:GREGORIAN
BEGIN:VEVENT
LOCATION:
SUMMARY:Business models\, funding and financing transport
DESCRIPTION:Business models\, funding and financing transport
DTSTART:20200702T100000
DTEND:20200702T120000
URL;VALUE=URI:https://energy-cities.eu/event/business-models-funding-and-financing-transport/
DTSTAMP:now
UID:65976fbc007d6
END:VEVENT
END:VCALENDAR