BEGIN:VCALENDAR
VERSION:2.0
PRODID:-//hacksw/handcal//NONSGML v1.0//EN
CALSCALE:GREGORIAN
BEGIN:VEVENT
LOCATION:
SUMMARY:CITYxCITY Festival
DESCRIPTION:CITYxCITY Festival
DTSTART:20210113T000000
DTEND:20210115T000000
URL;VALUE=URI:https://energy-cities.eu/event/cityxcity-festival/
DTSTAMP:now
UID:65976475b6d83
END:VEVENT
END:VCALENDAR