BEGIN:VCALENDAR
VERSION:2.0
PRODID:-//hacksw/handcal//NONSGML v1.0//EN
CALSCALE:GREGORIAN
BEGIN:VEVENT
LOCATION:
SUMMARY:COP of cities
DESCRIPTION:COP of cities
DTSTART:20220701T000000
DTEND:20220702T000000
URL;VALUE=URI:https://energy-cities.eu/event/la-cop-des-villes/
DTSTAMP:now
UID:659766a06eb44
END:VEVENT
END:VCALENDAR